BEGIN:VCALENDAR
VERSION:2.0
PRODID:-//Hangar Kultury - ECPv6.0.7.1//NONSGML v1.0//EN
CALSCALE:GREGORIAN
METHOD:PUBLISH
X-WR-CALNAME:Hangar Kultury
X-ORIGINAL-URL:http://hangarkultury.liceumxv.edu.pl
X-WR-CALDESC:Wydarzenia dla Hangar Kultury
REFRESH-INTERVAL;VALUE=DURATION:PT1H
X-Robots-Tag:noindex
X-PUBLISHED-TTL:PT1H
BEGIN:VTIMEZONE
TZID:Europe/Warsaw
BEGIN:DAYLIGHT
TZOFFSETFROM:+0100
TZOFFSETTO:+0200
TZNAME:CEST
DTSTART:20260329T010000
END:DAYLIGHT
BEGIN:STANDARD
TZOFFSETFROM:+0200
TZOFFSETTO:+0100
TZNAME:CET
DTSTART:20261025T010000
END:STANDARD
END:VTIMEZONE
BEGIN:VEVENT
DTSTART;TZID=Europe/Warsaw:20260428T111500
DTEND;TZID=Europe/Warsaw:20260428T130000
DTSTAMP:20260425T183155
CREATED:20260409T113050Z
LAST-MODIFIED:20260409T113050Z
UID:2352-1777374900-1777381200@hangarkultury.liceumxv.edu.pl
SUMMARY:AUDYCJA MUZYCZNA  MUZYCZNY SPACER  PO BYDGOSZCZY
DESCRIPTION:
URL:http://hangarkultury.liceumxv.edu.pl/event/audycja-muzyczna-muzyczny-spacer-po-bydgoszczy/
END:VEVENT
END:VCALENDAR